BEGIN:VCALENDAR
VERSION:2.0
PRODID:-//East Brunswick Republican Club - ECPv6.15.20//NONSGML v1.0//EN
CALSCALE:GREGORIAN
METHOD:PUBLISH
X-ORIGINAL-URL:https://ebrepublicanclub.com
X-WR-CALDESC:Events for East Brunswick Republican Club
REFRESH-INTERVAL;VALUE=DURATION:PT1H
X-Robots-Tag:noindex
X-PUBLISHED-TTL:PT1H
BEGIN:VTIMEZONE
TZID:America/New_York
BEGIN:DAYLIGHT
TZOFFSETFROM:-0500
TZOFFSETTO:-0400
TZNAME:EDT
DTSTART:20240310T070000
END:DAYLIGHT
BEGIN:STANDARD
TZOFFSETFROM:-0400
TZOFFSETTO:-0500
TZNAME:EST
DTSTART:20241103T060000
END:STANDARD
BEGIN:DAYLIGHT
TZOFFSETFROM:-0500
TZOFFSETTO:-0400
TZNAME:EDT
DTSTART:20250309T070000
END:DAYLIGHT
BEGIN:STANDARD
TZOFFSETFROM:-0400
TZOFFSETTO:-0500
TZNAME:EST
DTSTART:20251102T060000
END:STANDARD
BEGIN:DAYLIGHT
TZOFFSETFROM:-0500
TZOFFSETTO:-0400
TZNAME:EDT
DTSTART:20260308T070000
END:DAYLIGHT
BEGIN:STANDARD
TZOFFSETFROM:-0400
TZOFFSETTO:-0500
TZNAME:EST
DTSTART:20261101T060000
END:STANDARD
END:VTIMEZONE
BEGIN:VEVENT
DTSTART;TZID=America/New_York:20250514T193000
DTEND;TZID=America/New_York:20250514T213000
DTSTAMP:20260421T080438
CREATED:20250321T172038Z
LAST-MODIFIED:20250321T172325Z
UID:921-1747251000-1747258200@ebrepublicanclub.com
SUMMARY:Club Meeting
DESCRIPTION:May Club Meeting. \nCinco de Mayo Taco Night is Open House with two special guests: Jack Ciattarelli and Ed Durr
URL:https://ebrepublicanclub.com/event/club-meeting-10/
LOCATION:VFW\, 485 Cranbury Road\, East Brunswick\, 08816\, United States
CATEGORIES:Club Meetings
END:VEVENT
END:VCALENDAR