BEGIN:VCALENDAR
VERSION:2.0
PRODID:-//East Brunswick Republican Club - ECPv6.15.20//NONSGML v1.0//EN
CALSCALE:GREGORIAN
METHOD:PUBLISH
X-WR-CALNAME:East Brunswick Republican Club
X-ORIGINAL-URL:https://ebrepublicanclub.com
X-WR-CALDESC:Events for East Brunswick Republican Club
REFRESH-INTERVAL;VALUE=DURATION:PT1H
X-Robots-Tag:noindex
X-PUBLISHED-TTL:PT1H
BEGIN:VTIMEZONE
TZID:America/New_York
BEGIN:DAYLIGHT
TZOFFSETFROM:-0500
TZOFFSETTO:-0400
TZNAME:EDT
DTSTART:20210314T070000
END:DAYLIGHT
BEGIN:STANDARD
TZOFFSETFROM:-0400
TZOFFSETTO:-0500
TZNAME:EST
DTSTART:20211107T060000
END:STANDARD
BEGIN:DAYLIGHT
TZOFFSETFROM:-0500
TZOFFSETTO:-0400
TZNAME:EDT
DTSTART:20220313T070000
END:DAYLIGHT
BEGIN:STANDARD
TZOFFSETFROM:-0400
TZOFFSETTO:-0500
TZNAME:EST
DTSTART:20221106T060000
END:STANDARD
BEGIN:DAYLIGHT
TZOFFSETFROM:-0500
TZOFFSETTO:-0400
TZNAME:EDT
DTSTART:20230312T070000
END:DAYLIGHT
BEGIN:STANDARD
TZOFFSETFROM:-0400
TZOFFSETTO:-0500
TZNAME:EST
DTSTART:20231105T060000
END:STANDARD
END:VTIMEZONE
BEGIN:VEVENT
DTSTART;TZID=America/New_York:20220701T180000
DTEND;TZID=America/New_York:20220701T200000
DTSTAMP:20260421T044303
CREATED:20220519T163851Z
LAST-MODIFIED:20220519T164428Z
UID:358-1656698400-1656705600@ebrepublicanclub.com
SUMMARY:Painting with Your Candidate
DESCRIPTION:
URL:https://ebrepublicanclub.com/event/painting-with-your-candidate/
LOCATION:VFW\, 485 Cranbury Road\, East Brunswick\, 08816\, United States
CATEGORIES:Club Events
ORGANIZER;CN="Maria Manjelo":MAILTO:maria@mariamanjelo.com
END:VEVENT
BEGIN:VEVENT
DTSTART;TZID=America/New_York:20220626T180000
DTEND;TZID=America/New_York:20220626T200000
DTSTAMP:20260421T044303
CREATED:20220519T163546Z
LAST-MODIFIED:20220519T164028Z
UID:353-1656266400-1656273600@ebrepublicanclub.com
SUMMARY:Cookout with the Candidates.
DESCRIPTION:
URL:https://ebrepublicanclub.com/event/cookout-with-the-candidates/
LOCATION:Shan Resinence\, 1 Jennifer Court\, East Brunswick\, NJ\, 08816\, United States
CATEGORIES:Club Events
ORGANIZER;CN="Maria Manjelo":MAILTO:maria@mariamanjelo.com
END:VEVENT
END:VCALENDAR