BEGIN:VCALENDAR
VERSION:2.0
PRODID:-//East Brunswick Republican Club - ECPv6.15.20//NONSGML v1.0//EN
CALSCALE:GREGORIAN
METHOD:PUBLISH
X-ORIGINAL-URL:https://ebrepublicanclub.com
X-WR-CALDESC:Events for East Brunswick Republican Club
REFRESH-INTERVAL;VALUE=DURATION:PT1H
X-Robots-Tag:noindex
X-PUBLISHED-TTL:PT1H
BEGIN:VTIMEZONE
TZID:America/New_York
BEGIN:DAYLIGHT
TZOFFSETFROM:-0500
TZOFFSETTO:-0400
TZNAME:EDT
DTSTART:20240310T070000
END:DAYLIGHT
BEGIN:STANDARD
TZOFFSETFROM:-0400
TZOFFSETTO:-0500
TZNAME:EST
DTSTART:20241103T060000
END:STANDARD
BEGIN:DAYLIGHT
TZOFFSETFROM:-0500
TZOFFSETTO:-0400
TZNAME:EDT
DTSTART:20250309T070000
END:DAYLIGHT
BEGIN:STANDARD
TZOFFSETFROM:-0400
TZOFFSETTO:-0500
TZNAME:EST
DTSTART:20251102T060000
END:STANDARD
BEGIN:DAYLIGHT
TZOFFSETFROM:-0500
TZOFFSETTO:-0400
TZNAME:EDT
DTSTART:20260308T070000
END:DAYLIGHT
BEGIN:STANDARD
TZOFFSETFROM:-0400
TZOFFSETTO:-0500
TZNAME:EST
DTSTART:20261101T060000
END:STANDARD
END:VTIMEZONE
BEGIN:VEVENT
DTSTART;TZID=America/New_York:20250621T120000
DTEND;TZID=America/New_York:20250621T160000
DTSTAMP:20260419T201334
CREATED:20250604T194844Z
LAST-MODIFIED:20250604T194844Z
UID:960-1750507200-1750521600@ebrepublicanclub.com
SUMMARY:Summer kick off Republican Picnic
DESCRIPTION:You’re Invited to a Laid-Back\, Fun-Filled Picnic! \n\n\nHey friends — it’s time to kick back\, relax\, and enjoy the easiest fun you’ll have this season! Join us for the EBRC kick off Summer Picnic at the VFW in East Brunswick — where all you have to do is show up hungry and ready to smile!\n\n\nWe’ll have: Juicy hamburgers & sizzling hot dogs Delicious salads & veggie burger options Fun games like Corn Hole & Bocce Ball A fun fundraising Guessing Jar with prizes!\n\n\nBring your lawn chair\, your appetite\, and your best guess! Whether you’re feeling social or just want a chill afternoon\, this is for you.\n\n\n Location: VFW\, East Brunswick RSVP: Send your check to EBRC\, PO Box 893\, East Brunswick\, NJ 08816\n\n\nLet’s make memories\, not excuses.  See you there!
URL:https://ebrepublicanclub.com/event/summer-kick-off-republican-picnic/
LOCATION:VFW\, 485 Cranbury Road\, East Brunswick\, 08816\, United States
CATEGORIES:Club Events
END:VEVENT
BEGIN:VEVENT
DTSTART;TZID=America/New_York:20250621T120000
DTEND;TZID=America/New_York:20250621T170000
DTSTAMP:20260419T201334
CREATED:20250321T172636Z
LAST-MODIFIED:20250321T172636Z
UID:925-1750507200-1750525200@ebrepublicanclub.com
SUMMARY:June 21 Saturday Picnic.
DESCRIPTION:June 21 Saturday Picnic.
URL:https://ebrepublicanclub.com/event/june-21-saturday-picnic/
CATEGORIES:All Events,Club Events
END:VEVENT
END:VCALENDAR