BEGIN:VCALENDAR
VERSION:2.0
PRODID:-//East Brunswick Republican Club - ECPv6.15.20//NONSGML v1.0//EN
CALSCALE:GREGORIAN
METHOD:PUBLISH
X-WR-CALNAME:East Brunswick Republican Club
X-ORIGINAL-URL:https://ebrepublicanclub.com
X-WR-CALDESC:Events for East Brunswick Republican Club
REFRESH-INTERVAL;VALUE=DURATION:PT1H
X-Robots-Tag:noindex
X-PUBLISHED-TTL:PT1H
BEGIN:VTIMEZONE
TZID:America/New_York
BEGIN:DAYLIGHT
TZOFFSETFROM:-0500
TZOFFSETTO:-0400
TZNAME:EDT
DTSTART:20220313T070000
END:DAYLIGHT
BEGIN:STANDARD
TZOFFSETFROM:-0400
TZOFFSETTO:-0500
TZNAME:EST
DTSTART:20221106T060000
END:STANDARD
BEGIN:DAYLIGHT
TZOFFSETFROM:-0500
TZOFFSETTO:-0400
TZNAME:EDT
DTSTART:20230312T070000
END:DAYLIGHT
BEGIN:STANDARD
TZOFFSETFROM:-0400
TZOFFSETTO:-0500
TZNAME:EST
DTSTART:20231105T060000
END:STANDARD
BEGIN:DAYLIGHT
TZOFFSETFROM:-0500
TZOFFSETTO:-0400
TZNAME:EDT
DTSTART:20240310T070000
END:DAYLIGHT
BEGIN:STANDARD
TZOFFSETFROM:-0400
TZOFFSETTO:-0500
TZNAME:EST
DTSTART:20241103T060000
END:STANDARD
END:VTIMEZONE
BEGIN:VEVENT
DTSTART;TZID=America/New_York:20230614T193000
DTEND;TZID=America/New_York:20230614T203000
DTSTAMP:20260421T125012
CREATED:20230313T230021Z
LAST-MODIFIED:20230313T230601Z
UID:755-1686771000-1686774600@ebrepublicanclub.com
SUMMARY:Monthly Club Meeting
DESCRIPTION:
URL:https://ebrepublicanclub.com/event/monthly-club-meeting-10/
CATEGORIES:Club Events
END:VEVENT
BEGIN:VEVENT
DTSTART;VALUE=DATE:20230624
DTEND;VALUE=DATE:20230625
DTSTAMP:20260421T125012
CREATED:20230313T230134Z
LAST-MODIFIED:20230313T230635Z
UID:757-1687564800-1687651199@ebrepublicanclub.com
SUMMARY:EBRC Annual BBQ Party!
DESCRIPTION:
URL:https://ebrepublicanclub.com/event/ebrc-annual-bbq-party/
CATEGORIES:Club Events
END:VEVENT
END:VCALENDAR